BEGIN:VCALENDAR
VERSION:2.0
PRODID:-//CFMC - ECPv6.15.17.1//NONSGML v1.0//EN
CALSCALE:GREGORIAN
METHOD:PUBLISH
X-ORIGINAL-URL:https://cfmco.org
X-WR-CALDESC:Events for CFMC
REFRESH-INTERVAL;VALUE=DURATION:PT1H
X-Robots-Tag:noindex
X-PUBLISHED-TTL:PT1H
BEGIN:VTIMEZONE
TZID:UTC
BEGIN:STANDARD
TZOFFSETFROM:+0000
TZOFFSETTO:+0000
TZNAME:UTC
DTSTART:20240101T000000
END:STANDARD
END:VTIMEZONE
BEGIN:VEVENT
DTSTART;TZID=UTC:20250926T090000
DTEND;TZID=UTC:20250926T140000
DTSTAMP:20260421T133127
CREATED:20250805T231427Z
LAST-MODIFIED:20250904T184741Z
UID:10000327-1758877200-1758895200@cfmco.org
SUMMARY:AFP Mini-Conference
DESCRIPTION:This event is offered by the Association of Fundraising Professionals (AFP) Monterey Bay Chapter. \nMeet the Funders and CA Labor Law  \nMini Conference Hosted at the Sunset Center \nFriday\, September 26\, 9 a.m. – 2 p.m. \nRegister \nJoin us for a lively Meet the Funders panel including the who’s-who of philanthropic leadership in Monterey County followed by an informative “Getting the Employment Relationship Right Workshop” all at the Sunset Center in Carmel. \nIs your organization thinking about employment relationships? You are invited to join us for a special mini-conference on this topic. \nCome attend this essential workshop with Brad Levang\, Partner\, Fenton and Keller\, and learn about CA labor law\, on and off boarding\, compensation\, job descriptions\, etc. Perfect for Executive Directors\, CEOs\, Presidents\, anyone managing staff.
URL:https://cfmco.org/event/afp-mini-conference/
LOCATION:Sunset Center\, San Carlos Street at Ninth Avenue\, Carmel-by-the-Sea\, 93921\, United States
CATEGORIES:Workshops (CNE Calendar)
END:VEVENT
END:VCALENDAR