BEGIN:VCALENDAR
VERSION:2.0
PRODID:-//CFMC - ECPv6.15.17.1//NONSGML v1.0//EN
CALSCALE:GREGORIAN
METHOD:PUBLISH
X-ORIGINAL-URL:https://cfmco.org
X-WR-CALDESC:Events for CFMC
REFRESH-INTERVAL;VALUE=DURATION:PT1H
X-Robots-Tag:noindex
X-PUBLISHED-TTL:PT1H
BEGIN:VTIMEZONE
TZID:UTC
BEGIN:STANDARD
TZOFFSETFROM:+0000
TZOFFSETTO:+0000
TZNAME:UTC
DTSTART:20240101T000000
END:STANDARD
END:VTIMEZONE
BEGIN:VEVENT
DTSTART;TZID=UTC:20251016T100000
DTEND;TZID=UTC:20251016T120000
DTSTAMP:20260421T161827
CREATED:20250917T233856Z
LAST-MODIFIED:20250917T234007Z
UID:10000347-1760608800-1760616000@cfmco.org
SUMMARY:NAMC: AI Strategies for Nonprofit Leaders
DESCRIPTION:This workshop is offered by the Nonprofit Alliance of Monterey County (NAMC). \nDATE: Thursday\, October 16\, 10:00 – 12:00\nLocation: SPCA Monterey County Learning Center\nParking is limited\, so please carpool \nRegister \nWorkshop Audience: Nonprofit Executive Directors & leadership\, Board Presidents\, Thought Leaders\, Nonprofit Allies\, and NAMC Members \nAll Levels of AI Expertise welcome at this dynamic and free 2-hour workshop!\nSpace is limited! \nWorkshop Provider: Kevin Brookhouser\, Founder & Lead Consultant of GapJump AI\, & a technology expert passionate about supporting the nonprofit sector.
URL:https://cfmco.org/event/ai-strategies-for-nonprofit-leaders/
LOCATION:SPCA Monterey County Learning Center\, 1002 Monterey Salinas Hwy\, Salinas\, CA\, 93908\, United States
CATEGORIES:Workshops (CNE Calendar)
END:VEVENT
END:VCALENDAR