BEGIN:VCALENDAR
VERSION:2.0
PRODID:-//CFMC - ECPv6.15.17.1//NONSGML v1.0//EN
CALSCALE:GREGORIAN
METHOD:PUBLISH
X-ORIGINAL-URL:https://cfmco.org
X-WR-CALDESC:Events for CFMC
REFRESH-INTERVAL;VALUE=DURATION:PT1H
X-Robots-Tag:noindex
X-PUBLISHED-TTL:PT1H
BEGIN:VTIMEZONE
TZID:UTC
BEGIN:STANDARD
TZOFFSETFROM:+0000
TZOFFSETTO:+0000
TZNAME:UTC
DTSTART:20240101T000000
END:STANDARD
END:VTIMEZONE
BEGIN:VEVENT
DTSTART;TZID=UTC:20250219T120000
DTEND;TZID=UTC:20250219T133000
DTSTAMP:20260420T100728
CREATED:20250203T174933Z
LAST-MODIFIED:20250205T221614Z
UID:10000258-1739966400-1739971800@cfmco.org
SUMMARY:CNE Networking Lunch
DESCRIPTION:Please join the Center for Nonprofit Excellence (CNE) for this informal lunch gathering. \nRSVP \nWednesday\, February 19\nNoon-1:30\nCommunity Foundation Monterey Conference Room\n2354 Garden Road\, Monterey\nFree \n\nEnjoy food\, feel refreshed and appreciated for your important work during stressful times\,\nMingle and connect with other CNE participants and nonprofit folks\, and\nShare what’s on your mind\, exchange resources and opportunities.
URL:https://cfmco.org/event/cne-networking-lunch/
LOCATION:Community Foundation for Monterey County (Monterey Office)\, 2354 Garden Road\, Monterey\, CA\, 93940
CATEGORIES:Featured Events/Home,Main CFMC Calendar,Workshops (CNE Calendar)
ATTACH;FMTTYPE=image/webp:https://cfmco.org/app/uploads/2024/11/CNE-logo-for-New-Website.webp
GEO:36.5857251;-121.8555935
X-APPLE-STRUCTURED-LOCATION;VALUE=URI;X-ADDRESS=Community Foundation for Monterey County (Monterey Office) 2354 Garden Road Monterey CA 93940;X-APPLE-RADIUS=500;X-TITLE=2354 Garden Road:geo:-121.8555935,36.5857251
END:VEVENT
BEGIN:VEVENT
DTSTART;TZID=UTC:20250131T100000
DTEND;TZID=UTC:20250131T110000
DTSTAMP:20260420T100728
CREATED:20250124T231305Z
LAST-MODIFIED:20250124T231305Z
UID:10000251-1738317600-1738321200@cfmco.org
SUMMARY:Key Law Changes for Art Nonprofits
DESCRIPTION:This event is hosted by Arts Council of Monterey County. \nRegister \nBradley Levang\, Esq. from Fenton & Keller will provide an in-depth overview of crucial updates\, including AB5\, SB 988\, HR 9495\, and new employer laws that impact nonprofit organizations. Bradley will provide the guidance you need to navigate these changes and ensure your nonprofit remains compliant. \nBusinessWorks is Arts4MC’s FREE professional development series\, and we encourage everyone in art nonprofits to join us. This is your chance to stay informed\, protect your organization\, and continue making a positive impact in the community! \nWhile this is a free event\, we’d appreciate your RSVP to ensure we have enough coffee and treats for everyone!
URL:https://cfmco.org/event/key-law-changes-for-art-nonprofits/
LOCATION:Community Foundation for Monterey County (Monterey Office)\, 2354 Garden Road\, Monterey\, CA\, 93940
CATEGORIES:Workshops (CNE Calendar)
GEO:36.5857251;-121.8555935
X-APPLE-STRUCTURED-LOCATION;VALUE=URI;X-ADDRESS=Community Foundation for Monterey County (Monterey Office) 2354 Garden Road Monterey CA 93940;X-APPLE-RADIUS=500;X-TITLE=2354 Garden Road:geo:-121.8555935,36.5857251
END:VEVENT
END:VCALENDAR