BEGIN:VCALENDAR
VERSION:2.0
PRODID:-//CFMC - ECPv6.15.17.1//NONSGML v1.0//EN
CALSCALE:GREGORIAN
METHOD:PUBLISH
X-WR-CALNAME:CFMC
X-ORIGINAL-URL:https://cfmco.org
X-WR-CALDESC:Events for CFMC
REFRESH-INTERVAL;VALUE=DURATION:PT1H
X-Robots-Tag:noindex
X-PUBLISHED-TTL:PT1H
BEGIN:VTIMEZONE
TZID:UTC
BEGIN:STANDARD
TZOFFSETFROM:+0000
TZOFFSETTO:+0000
TZNAME:UTC
DTSTART:20250101T000000
END:STANDARD
END:VTIMEZONE
BEGIN:VEVENT
DTSTART;TZID=UTC:20260605T083000
DTEND;TZID=UTC:20260605T103000
DTSTAMP:20260420T063122
CREATED:20260319T223310Z
LAST-MODIFIED:20260319T223310Z
UID:10000419-1780648200-1780655400@cfmco.org
SUMMARY:AFP Networking Meet-up
DESCRIPTION:This event is offered by the Association of Fundraising Professionals (AFP) Monterey Bay Chapter. \nMembers and prospective members are welcome. No charge to attend\, bring a friend! Coffee and light snacks will be served. This is the perfect opportunity to connect\, share ideas\, and build relationships with other fundraisers.
URL:https://cfmco.org/event/afp-networking-meet-up-9/
LOCATION:Community Foundation for Monterey County (Monterey Office)\, 2354 Garden Road\, Monterey\, CA\, 93940
CATEGORIES:Workshops (CNE Calendar)
GEO:36.5857251;-121.8555935
X-APPLE-STRUCTURED-LOCATION;VALUE=URI;X-ADDRESS=Community Foundation for Monterey County (Monterey Office) 2354 Garden Road Monterey CA 93940;X-APPLE-RADIUS=500;X-TITLE=2354 Garden Road:geo:-121.8555935,36.5857251
END:VEVENT
END:VCALENDAR